BEGIN:VCALENDAR
VERSION:2.0
PRODID:-//The Kings Head - ECPv6.8.3//NONSGML v1.0//EN
CALSCALE:GREGORIAN
METHOD:PUBLISH
X-WR-CALNAME:The Kings Head
X-ORIGINAL-URL:https://www.thekingshead.ca/events
X-WR-CALDESC:Events for The Kings Head
REFRESH-INTERVAL;VALUE=DURATION:PT1H
X-Robots-Tag:noindex
X-PUBLISHED-TTL:PT1H
BEGIN:VTIMEZONE
TZID:UTC
BEGIN:STANDARD
TZOFFSETFROM:+0000
TZOFFSETTO:+0000
TZNAME:UTC
DTSTART:20250101T000000
END:STANDARD
END:VTIMEZONE
BEGIN:VEVENT
DTSTART;TZID=UTC:20250325T200000
DTEND;TZID=UTC:20250325T233000
DTSTAMP:20260425T125750
CREATED:20240220T002158Z
LAST-MODIFIED:20260421T173434Z
UID:10010261-1742932800-1742945400@www.thekingshead.ca
SUMMARY:Karaoke Night
DESCRIPTION: Karaoke Night hosted by Darcy Lebo every Tuesday 8pm-11:30pm. Come sing your heart out! \nHAPPY HOUR – 3pm – 7pm $5.25 House Pints & Highballs \nTuesday Food & Drink Specials Open to Close: Half Price Tacos | $6.75 1oz Margaritas
URL:https://www.thekingshead.ca/events/event/karaoke-night/2025-03-25/
ATTACH;FMTTYPE=image/jpeg:https://www.thekingshead.ca/events/wp-content/uploads/2024/02/KHTues2025web.jpg
END:VEVENT
BEGIN:VEVENT
DTSTART;TZID=UTC:20250327T200000
DTEND;TZID=UTC:20250327T233000
DTSTAMP:20260425T125750
CREATED:20250211T212201Z
LAST-MODIFIED:20250211T212201Z
UID:10009551-1743105600-1743118200@www.thekingshead.ca
SUMMARY:DR Friday Video Release Party & Free Show
DESCRIPTION:Thursday Sessions only at The Kings Head.\nJoin us Thursday nights with Live Cover Bands and Original Bands to Kick Start your Weekend. FREE COVER – Live Music 8pm ’til 11:30pm \nHAPPY HOUR – 3pm – 7pm $5 House Pints / Highballs / Fry Bar \nThursday  Food & Drink Specials Open to Close: $14 Beef Dip | $6.50 Labatt 16oz pints
URL:https://www.thekingshead.ca/events/event/dr-friday-video-release-party-free-show/
ATTACH;FMTTYPE=image/jpeg:https://www.thekingshead.ca/events/wp-content/uploads/2025/02/DrFridayweb.jpg
END:VEVENT
BEGIN:VEVENT
DTSTART;TZID=UTC:20250328T213000
DTEND;TZID=UTC:20250329T013000
DTSTAMP:20260425T125750
CREATED:20250206T195503Z
LAST-MODIFIED:20250206T195503Z
UID:10009541-1743197400-1743211800@www.thekingshead.ca
SUMMARY:Pocket Dial LIVE
DESCRIPTION:Vocal driven 4 piece performing your favorite rock/alt music from the 80s\, 90s (mostly) and beyond! \nLIVE Music Every Friday & Saturday Nights starting at 9:45pm \nHAPPY HOUR 3pm – 7pm: $5 House Pints / Highballs / Fry Bar \nFriday Specials: 1/2 Price Bottles of Wine & 1/2 Price 6oz glass of House Wine from 11:30am ’til 7pm | $14 Fish and Chips all day long \nSaturday Specials: $6.50 PBR Pints & Tall Cans – 11:30 “til 7pm \n$35 Kings Head Platter: 2lb of Wings & 2 Pounds of Dry Ribs served with Carrots\, Celery and Ranch ALL DAY LONG
URL:https://www.thekingshead.ca/events/event/pocket-dial-live-3/2025-03-28/
ATTACH;FMTTYPE=image/jpeg:https://www.thekingshead.ca/events/wp-content/uploads/2024/02/Pocket-Dial.jpg
END:VEVENT
BEGIN:VEVENT
DTSTART;TZID=UTC:20250329T213000
DTEND;TZID=UTC:20250330T013000
DTSTAMP:20260425T125750
CREATED:20250206T195503Z
LAST-MODIFIED:20250206T195503Z
UID:10009542-1743283800-1743298200@www.thekingshead.ca
SUMMARY:Pocket Dial LIVE
DESCRIPTION:Vocal driven 4 piece performing your favorite rock/alt music from the 80s\, 90s (mostly) and beyond! \nLIVE Music Every Friday & Saturday Nights starting at 9:45pm \nHAPPY HOUR 3pm – 7pm: $5 House Pints / Highballs / Fry Bar \nFriday Specials: 1/2 Price Bottles of Wine & 1/2 Price 6oz glass of House Wine from 11:30am ’til 7pm | $14 Fish and Chips all day long \nSaturday Specials: $6.50 PBR Pints & Tall Cans – 11:30 “til 7pm \n$35 Kings Head Platter: 2lb of Wings & 2 Pounds of Dry Ribs served with Carrots\, Celery and Ranch ALL DAY LONG
URL:https://www.thekingshead.ca/events/event/pocket-dial-live-3/2025-03-29/
ATTACH;FMTTYPE=image/jpeg:https://www.thekingshead.ca/events/wp-content/uploads/2024/02/Pocket-Dial.jpg
END:VEVENT
BEGIN:VEVENT
DTSTART;TZID=UTC:20250330T193000
DTEND;TZID=UTC:20250330T223000
DTSTAMP:20260425T125750
CREATED:20240209T211921Z
LAST-MODIFIED:20250702T181701Z
UID:10008225-1743363000-1743373800@www.thekingshead.ca
SUMMARY:Comedy Night
DESCRIPTION:The Kings Head and Top Shelf Comedy Productions Presents.. Comedy Night 7:30pm-10:30pm. Great talent making you laugh before the work week!  \nSunday Specials: \nHAPPY HOUR ALL DAY- $5 House Pints /  Highballs / Fry Bar \n1/2 price Pizzas ALL DAY LONG | FREE POOL!
URL:https://www.thekingshead.ca/events/event/comedy-night-sundays/2025-03-30/
ATTACH;FMTTYPE=image/jpeg:https://www.thekingshead.ca/events/wp-content/uploads/2024/02/KHSUNcomedy2025web.jpg
END:VEVENT
END:VCALENDAR