BEGIN:VCALENDAR
VERSION:2.0
PRODID:-//The Kings Head - ECPv6.8.3//NONSGML v1.0//EN
CALSCALE:GREGORIAN
METHOD:PUBLISH
X-ORIGINAL-URL:https://www.thekingshead.ca/events
X-WR-CALDESC:Events for The Kings Head
REFRESH-INTERVAL;VALUE=DURATION:PT1H
X-Robots-Tag:noindex
X-PUBLISHED-TTL:PT1H
BEGIN:VTIMEZONE
TZID:UTC
BEGIN:STANDARD
TZOFFSETFROM:+0000
TZOFFSETTO:+0000
TZNAME:UTC
DTSTART:20270101T000000
END:STANDARD
END:VTIMEZONE
BEGIN:VEVENT
DTSTART;TZID=UTC:20270828T150000
DTEND;TZID=UTC:20270828T190000
DTSTAMP:20260422T174134
CREATED:20250421T201532Z
LAST-MODIFIED:20260313T220452Z
UID:10009753-1819465200-1819479600@www.thekingshead.ca
SUMMARY:PBR Saturday Afternoon Jam
DESCRIPTION:PBR Presents- Saturday Afternoon Jam 3pm-7pm. Great community coming together and local artists having fun together on stage. \nSaturday Specials: \nHAPPY HOUR – 3pm – 7pm $5 House Pints & Highballs \n$6.75 PBR Pints & Tall Cans – 11:30 “til 7pm \n$35.25 Kings Head Platter (2lb of Wings & 2 Pounds of Dry Ribs served with Carrots\, Celery and Ranch) ALL DAY
URL:https://www.thekingshead.ca/events/event/pbr-saturday-afternoon-jam/2027-08-28/
ATTACH;FMTTYPE=image/jpeg:https://www.thekingshead.ca/events/wp-content/uploads/2023/06/KHSAT2025web.jpg
END:VEVENT
BEGIN:VEVENT
DTSTART;TZID=UTC:20270904T150000
DTEND;TZID=UTC:20270904T190000
DTSTAMP:20260422T174134
CREATED:20250421T201532Z
LAST-MODIFIED:20260313T220452Z
UID:10009754-1820070000-1820084400@www.thekingshead.ca
SUMMARY:PBR Saturday Afternoon Jam
DESCRIPTION:PBR Presents- Saturday Afternoon Jam 3pm-7pm. Great community coming together and local artists having fun together on stage. \nSaturday Specials: \nHAPPY HOUR – 3pm – 7pm $5 House Pints & Highballs \n$6.75 PBR Pints & Tall Cans – 11:30 “til 7pm \n$35.25 Kings Head Platter (2lb of Wings & 2 Pounds of Dry Ribs served with Carrots\, Celery and Ranch) ALL DAY
URL:https://www.thekingshead.ca/events/event/pbr-saturday-afternoon-jam/2027-09-04/
ATTACH;FMTTYPE=image/jpeg:https://www.thekingshead.ca/events/wp-content/uploads/2023/06/KHSAT2025web.jpg
END:VEVENT
BEGIN:VEVENT
DTSTART;TZID=UTC:20270911T150000
DTEND;TZID=UTC:20270911T190000
DTSTAMP:20260422T174134
CREATED:20250421T201532Z
LAST-MODIFIED:20260313T220452Z
UID:10009755-1820674800-1820689200@www.thekingshead.ca
SUMMARY:PBR Saturday Afternoon Jam
DESCRIPTION:PBR Presents- Saturday Afternoon Jam 3pm-7pm. Great community coming together and local artists having fun together on stage. \nSaturday Specials: \nHAPPY HOUR – 3pm – 7pm $5 House Pints & Highballs \n$6.75 PBR Pints & Tall Cans – 11:30 “til 7pm \n$35.25 Kings Head Platter (2lb of Wings & 2 Pounds of Dry Ribs served with Carrots\, Celery and Ranch) ALL DAY
URL:https://www.thekingshead.ca/events/event/pbr-saturday-afternoon-jam/2027-09-11/
ATTACH;FMTTYPE=image/jpeg:https://www.thekingshead.ca/events/wp-content/uploads/2023/06/KHSAT2025web.jpg
END:VEVENT
BEGIN:VEVENT
DTSTART;TZID=UTC:20270918T150000
DTEND;TZID=UTC:20270918T190000
DTSTAMP:20260422T174134
CREATED:20250421T201532Z
LAST-MODIFIED:20260313T220452Z
UID:10009756-1821279600-1821294000@www.thekingshead.ca
SUMMARY:PBR Saturday Afternoon Jam
DESCRIPTION:PBR Presents- Saturday Afternoon Jam 3pm-7pm. Great community coming together and local artists having fun together on stage. \nSaturday Specials: \nHAPPY HOUR – 3pm – 7pm $5 House Pints & Highballs \n$6.75 PBR Pints & Tall Cans – 11:30 “til 7pm \n$35.25 Kings Head Platter (2lb of Wings & 2 Pounds of Dry Ribs served with Carrots\, Celery and Ranch) ALL DAY
URL:https://www.thekingshead.ca/events/event/pbr-saturday-afternoon-jam/2027-09-18/
ATTACH;FMTTYPE=image/jpeg:https://www.thekingshead.ca/events/wp-content/uploads/2023/06/KHSAT2025web.jpg
END:VEVENT
BEGIN:VEVENT
DTSTART;TZID=UTC:20270925T150000
DTEND;TZID=UTC:20270925T190000
DTSTAMP:20260422T174134
CREATED:20250421T201532Z
LAST-MODIFIED:20260313T220452Z
UID:10009757-1821884400-1821898800@www.thekingshead.ca
SUMMARY:PBR Saturday Afternoon Jam
DESCRIPTION:PBR Presents- Saturday Afternoon Jam 3pm-7pm. Great community coming together and local artists having fun together on stage. \nSaturday Specials: \nHAPPY HOUR – 3pm – 7pm $5 House Pints & Highballs \n$6.75 PBR Pints & Tall Cans – 11:30 “til 7pm \n$35.25 Kings Head Platter (2lb of Wings & 2 Pounds of Dry Ribs served with Carrots\, Celery and Ranch) ALL DAY
URL:https://www.thekingshead.ca/events/event/pbr-saturday-afternoon-jam/2027-09-25/
ATTACH;FMTTYPE=image/jpeg:https://www.thekingshead.ca/events/wp-content/uploads/2023/06/KHSAT2025web.jpg
END:VEVENT
BEGIN:VEVENT
DTSTART;TZID=UTC:20271002T150000
DTEND;TZID=UTC:20271002T190000
DTSTAMP:20260422T174134
CREATED:20250421T201532Z
LAST-MODIFIED:20260313T220452Z
UID:10009758-1822489200-1822503600@www.thekingshead.ca
SUMMARY:PBR Saturday Afternoon Jam
DESCRIPTION:PBR Presents- Saturday Afternoon Jam 3pm-7pm. Great community coming together and local artists having fun together on stage. \nSaturday Specials: \nHAPPY HOUR – 3pm – 7pm $5 House Pints & Highballs \n$6.75 PBR Pints & Tall Cans – 11:30 “til 7pm \n$35.25 Kings Head Platter (2lb of Wings & 2 Pounds of Dry Ribs served with Carrots\, Celery and Ranch) ALL DAY
URL:https://www.thekingshead.ca/events/event/pbr-saturday-afternoon-jam/2027-10-02/
ATTACH;FMTTYPE=image/jpeg:https://www.thekingshead.ca/events/wp-content/uploads/2023/06/KHSAT2025web.jpg
END:VEVENT
BEGIN:VEVENT
DTSTART;TZID=UTC:20271009T150000
DTEND;TZID=UTC:20271009T190000
DTSTAMP:20260422T174134
CREATED:20250421T201532Z
LAST-MODIFIED:20260313T220452Z
UID:10009759-1823094000-1823108400@www.thekingshead.ca
SUMMARY:PBR Saturday Afternoon Jam
DESCRIPTION:PBR Presents- Saturday Afternoon Jam 3pm-7pm. Great community coming together and local artists having fun together on stage. \nSaturday Specials: \nHAPPY HOUR – 3pm – 7pm $5 House Pints & Highballs \n$6.75 PBR Pints & Tall Cans – 11:30 “til 7pm \n$35.25 Kings Head Platter (2lb of Wings & 2 Pounds of Dry Ribs served with Carrots\, Celery and Ranch) ALL DAY
URL:https://www.thekingshead.ca/events/event/pbr-saturday-afternoon-jam/2027-10-09/
ATTACH;FMTTYPE=image/jpeg:https://www.thekingshead.ca/events/wp-content/uploads/2023/06/KHSAT2025web.jpg
END:VEVENT
BEGIN:VEVENT
DTSTART;TZID=UTC:20271016T150000
DTEND;TZID=UTC:20271016T190000
DTSTAMP:20260422T174134
CREATED:20250421T201532Z
LAST-MODIFIED:20260313T220452Z
UID:10009760-1823698800-1823713200@www.thekingshead.ca
SUMMARY:PBR Saturday Afternoon Jam
DESCRIPTION:PBR Presents- Saturday Afternoon Jam 3pm-7pm. Great community coming together and local artists having fun together on stage. \nSaturday Specials: \nHAPPY HOUR – 3pm – 7pm $5 House Pints & Highballs \n$6.75 PBR Pints & Tall Cans – 11:30 “til 7pm \n$35.25 Kings Head Platter (2lb of Wings & 2 Pounds of Dry Ribs served with Carrots\, Celery and Ranch) ALL DAY
URL:https://www.thekingshead.ca/events/event/pbr-saturday-afternoon-jam/2027-10-16/
ATTACH;FMTTYPE=image/jpeg:https://www.thekingshead.ca/events/wp-content/uploads/2023/06/KHSAT2025web.jpg
END:VEVENT
BEGIN:VEVENT
DTSTART;TZID=UTC:20271023T150000
DTEND;TZID=UTC:20271023T190000
DTSTAMP:20260422T174134
CREATED:20250421T201532Z
LAST-MODIFIED:20260313T220452Z
UID:10009761-1824303600-1824318000@www.thekingshead.ca
SUMMARY:PBR Saturday Afternoon Jam
DESCRIPTION:PBR Presents- Saturday Afternoon Jam 3pm-7pm. Great community coming together and local artists having fun together on stage. \nSaturday Specials: \nHAPPY HOUR – 3pm – 7pm $5 House Pints & Highballs \n$6.75 PBR Pints & Tall Cans – 11:30 “til 7pm \n$35.25 Kings Head Platter (2lb of Wings & 2 Pounds of Dry Ribs served with Carrots\, Celery and Ranch) ALL DAY
URL:https://www.thekingshead.ca/events/event/pbr-saturday-afternoon-jam/2027-10-23/
ATTACH;FMTTYPE=image/jpeg:https://www.thekingshead.ca/events/wp-content/uploads/2023/06/KHSAT2025web.jpg
END:VEVENT
BEGIN:VEVENT
DTSTART;TZID=UTC:20271030T150000
DTEND;TZID=UTC:20271030T190000
DTSTAMP:20260422T174134
CREATED:20250421T201532Z
LAST-MODIFIED:20260313T220452Z
UID:10009762-1824908400-1824922800@www.thekingshead.ca
SUMMARY:PBR Saturday Afternoon Jam
DESCRIPTION:PBR Presents- Saturday Afternoon Jam 3pm-7pm. Great community coming together and local artists having fun together on stage. \nSaturday Specials: \nHAPPY HOUR – 3pm – 7pm $5 House Pints & Highballs \n$6.75 PBR Pints & Tall Cans – 11:30 “til 7pm \n$35.25 Kings Head Platter (2lb of Wings & 2 Pounds of Dry Ribs served with Carrots\, Celery and Ranch) ALL DAY
URL:https://www.thekingshead.ca/events/event/pbr-saturday-afternoon-jam/2027-10-30/
ATTACH;FMTTYPE=image/jpeg:https://www.thekingshead.ca/events/wp-content/uploads/2023/06/KHSAT2025web.jpg
END:VEVENT
BEGIN:VEVENT
DTSTART;TZID=UTC:20271106T150000
DTEND;TZID=UTC:20271106T190000
DTSTAMP:20260422T174134
CREATED:20250421T201532Z
LAST-MODIFIED:20260313T220452Z
UID:10009763-1825513200-1825527600@www.thekingshead.ca
SUMMARY:PBR Saturday Afternoon Jam
DESCRIPTION:PBR Presents- Saturday Afternoon Jam 3pm-7pm. Great community coming together and local artists having fun together on stage. \nSaturday Specials: \nHAPPY HOUR – 3pm – 7pm $5 House Pints & Highballs \n$6.75 PBR Pints & Tall Cans – 11:30 “til 7pm \n$35.25 Kings Head Platter (2lb of Wings & 2 Pounds of Dry Ribs served with Carrots\, Celery and Ranch) ALL DAY
URL:https://www.thekingshead.ca/events/event/pbr-saturday-afternoon-jam/2027-11-06/
ATTACH;FMTTYPE=image/jpeg:https://www.thekingshead.ca/events/wp-content/uploads/2023/06/KHSAT2025web.jpg
END:VEVENT
BEGIN:VEVENT
DTSTART;TZID=UTC:20271113T150000
DTEND;TZID=UTC:20271113T190000
DTSTAMP:20260422T174134
CREATED:20250421T201532Z
LAST-MODIFIED:20260313T220452Z
UID:10009764-1826118000-1826132400@www.thekingshead.ca
SUMMARY:PBR Saturday Afternoon Jam
DESCRIPTION:PBR Presents- Saturday Afternoon Jam 3pm-7pm. Great community coming together and local artists having fun together on stage. \nSaturday Specials: \nHAPPY HOUR – 3pm – 7pm $5 House Pints & Highballs \n$6.75 PBR Pints & Tall Cans – 11:30 “til 7pm \n$35.25 Kings Head Platter (2lb of Wings & 2 Pounds of Dry Ribs served with Carrots\, Celery and Ranch) ALL DAY
URL:https://www.thekingshead.ca/events/event/pbr-saturday-afternoon-jam/2027-11-13/
ATTACH;FMTTYPE=image/jpeg:https://www.thekingshead.ca/events/wp-content/uploads/2023/06/KHSAT2025web.jpg
END:VEVENT
BEGIN:VEVENT
DTSTART;TZID=UTC:20271120T150000
DTEND;TZID=UTC:20271120T190000
DTSTAMP:20260422T174134
CREATED:20250421T201532Z
LAST-MODIFIED:20260313T220452Z
UID:10009765-1826722800-1826737200@www.thekingshead.ca
SUMMARY:PBR Saturday Afternoon Jam
DESCRIPTION:PBR Presents- Saturday Afternoon Jam 3pm-7pm. Great community coming together and local artists having fun together on stage. \nSaturday Specials: \nHAPPY HOUR – 3pm – 7pm $5 House Pints & Highballs \n$6.75 PBR Pints & Tall Cans – 11:30 “til 7pm \n$35.25 Kings Head Platter (2lb of Wings & 2 Pounds of Dry Ribs served with Carrots\, Celery and Ranch) ALL DAY
URL:https://www.thekingshead.ca/events/event/pbr-saturday-afternoon-jam/2027-11-20/
ATTACH;FMTTYPE=image/jpeg:https://www.thekingshead.ca/events/wp-content/uploads/2023/06/KHSAT2025web.jpg
END:VEVENT
BEGIN:VEVENT
DTSTART;TZID=UTC:20271127T150000
DTEND;TZID=UTC:20271127T190000
DTSTAMP:20260422T174134
CREATED:20250421T201532Z
LAST-MODIFIED:20260313T220452Z
UID:10009766-1827327600-1827342000@www.thekingshead.ca
SUMMARY:PBR Saturday Afternoon Jam
DESCRIPTION:PBR Presents- Saturday Afternoon Jam 3pm-7pm. Great community coming together and local artists having fun together on stage. \nSaturday Specials: \nHAPPY HOUR – 3pm – 7pm $5 House Pints & Highballs \n$6.75 PBR Pints & Tall Cans – 11:30 “til 7pm \n$35.25 Kings Head Platter (2lb of Wings & 2 Pounds of Dry Ribs served with Carrots\, Celery and Ranch) ALL DAY
URL:https://www.thekingshead.ca/events/event/pbr-saturday-afternoon-jam/2027-11-27/
ATTACH;FMTTYPE=image/jpeg:https://www.thekingshead.ca/events/wp-content/uploads/2023/06/KHSAT2025web.jpg
END:VEVENT
BEGIN:VEVENT
DTSTART;TZID=UTC:20271204T150000
DTEND;TZID=UTC:20271204T190000
DTSTAMP:20260422T174134
CREATED:20250421T201532Z
LAST-MODIFIED:20260313T220452Z
UID:10009767-1827932400-1827946800@www.thekingshead.ca
SUMMARY:PBR Saturday Afternoon Jam
DESCRIPTION:PBR Presents- Saturday Afternoon Jam 3pm-7pm. Great community coming together and local artists having fun together on stage. \nSaturday Specials: \nHAPPY HOUR – 3pm – 7pm $5 House Pints & Highballs \n$6.75 PBR Pints & Tall Cans – 11:30 “til 7pm \n$35.25 Kings Head Platter (2lb of Wings & 2 Pounds of Dry Ribs served with Carrots\, Celery and Ranch) ALL DAY
URL:https://www.thekingshead.ca/events/event/pbr-saturday-afternoon-jam/2027-12-04/
ATTACH;FMTTYPE=image/jpeg:https://www.thekingshead.ca/events/wp-content/uploads/2023/06/KHSAT2025web.jpg
END:VEVENT
BEGIN:VEVENT
DTSTART;TZID=UTC:20271211T150000
DTEND;TZID=UTC:20271211T190000
DTSTAMP:20260422T174134
CREATED:20250421T201532Z
LAST-MODIFIED:20260313T220452Z
UID:10009768-1828537200-1828551600@www.thekingshead.ca
SUMMARY:PBR Saturday Afternoon Jam
DESCRIPTION:PBR Presents- Saturday Afternoon Jam 3pm-7pm. Great community coming together and local artists having fun together on stage. \nSaturday Specials: \nHAPPY HOUR – 3pm – 7pm $5 House Pints & Highballs \n$6.75 PBR Pints & Tall Cans – 11:30 “til 7pm \n$35.25 Kings Head Platter (2lb of Wings & 2 Pounds of Dry Ribs served with Carrots\, Celery and Ranch) ALL DAY
URL:https://www.thekingshead.ca/events/event/pbr-saturday-afternoon-jam/2027-12-11/
ATTACH;FMTTYPE=image/jpeg:https://www.thekingshead.ca/events/wp-content/uploads/2023/06/KHSAT2025web.jpg
END:VEVENT
BEGIN:VEVENT
DTSTART;TZID=UTC:20271218T150000
DTEND;TZID=UTC:20271218T190000
DTSTAMP:20260422T174134
CREATED:20250421T201532Z
LAST-MODIFIED:20260313T220452Z
UID:10009769-1829142000-1829156400@www.thekingshead.ca
SUMMARY:PBR Saturday Afternoon Jam
DESCRIPTION:PBR Presents- Saturday Afternoon Jam 3pm-7pm. Great community coming together and local artists having fun together on stage. \nSaturday Specials: \nHAPPY HOUR – 3pm – 7pm $5 House Pints & Highballs \n$6.75 PBR Pints & Tall Cans – 11:30 “til 7pm \n$35.25 Kings Head Platter (2lb of Wings & 2 Pounds of Dry Ribs served with Carrots\, Celery and Ranch) ALL DAY
URL:https://www.thekingshead.ca/events/event/pbr-saturday-afternoon-jam/2027-12-18/
ATTACH;FMTTYPE=image/jpeg:https://www.thekingshead.ca/events/wp-content/uploads/2023/06/KHSAT2025web.jpg
END:VEVENT
BEGIN:VEVENT
DTSTART;TZID=UTC:20271225T150000
DTEND;TZID=UTC:20271225T190000
DTSTAMP:20260422T174134
CREATED:20250421T201532Z
LAST-MODIFIED:20260313T220452Z
UID:10009770-1829746800-1829761200@www.thekingshead.ca
SUMMARY:PBR Saturday Afternoon Jam
DESCRIPTION:PBR Presents- Saturday Afternoon Jam 3pm-7pm. Great community coming together and local artists having fun together on stage. \nSaturday Specials: \nHAPPY HOUR – 3pm – 7pm $5 House Pints & Highballs \n$6.75 PBR Pints & Tall Cans – 11:30 “til 7pm \n$35.25 Kings Head Platter (2lb of Wings & 2 Pounds of Dry Ribs served with Carrots\, Celery and Ranch) ALL DAY
URL:https://www.thekingshead.ca/events/event/pbr-saturday-afternoon-jam/2027-12-25/
ATTACH;FMTTYPE=image/jpeg:https://www.thekingshead.ca/events/wp-content/uploads/2023/06/KHSAT2025web.jpg
END:VEVENT
BEGIN:VEVENT
DTSTART;TZID=UTC:20280101T150000
DTEND;TZID=UTC:20280101T190000
DTSTAMP:20260422T174134
CREATED:20250421T201532Z
LAST-MODIFIED:20260313T220452Z
UID:10009771-1830351600-1830366000@www.thekingshead.ca
SUMMARY:PBR Saturday Afternoon Jam
DESCRIPTION:PBR Presents- Saturday Afternoon Jam 3pm-7pm. Great community coming together and local artists having fun together on stage. \nSaturday Specials: \nHAPPY HOUR – 3pm – 7pm $5 House Pints & Highballs \n$6.75 PBR Pints & Tall Cans – 11:30 “til 7pm \n$35.25 Kings Head Platter (2lb of Wings & 2 Pounds of Dry Ribs served with Carrots\, Celery and Ranch) ALL DAY
URL:https://www.thekingshead.ca/events/event/pbr-saturday-afternoon-jam/2028-01-01/
ATTACH;FMTTYPE=image/jpeg:https://www.thekingshead.ca/events/wp-content/uploads/2023/06/KHSAT2025web.jpg
END:VEVENT
BEGIN:VEVENT
DTSTART;TZID=UTC:20280108T150000
DTEND;TZID=UTC:20280108T190000
DTSTAMP:20260422T174134
CREATED:20250421T201532Z
LAST-MODIFIED:20260313T220452Z
UID:10009772-1830956400-1830970800@www.thekingshead.ca
SUMMARY:PBR Saturday Afternoon Jam
DESCRIPTION:PBR Presents- Saturday Afternoon Jam 3pm-7pm. Great community coming together and local artists having fun together on stage. \nSaturday Specials: \nHAPPY HOUR – 3pm – 7pm $5 House Pints & Highballs \n$6.75 PBR Pints & Tall Cans – 11:30 “til 7pm \n$35.25 Kings Head Platter (2lb of Wings & 2 Pounds of Dry Ribs served with Carrots\, Celery and Ranch) ALL DAY
URL:https://www.thekingshead.ca/events/event/pbr-saturday-afternoon-jam/2028-01-08/
ATTACH;FMTTYPE=image/jpeg:https://www.thekingshead.ca/events/wp-content/uploads/2023/06/KHSAT2025web.jpg
END:VEVENT
BEGIN:VEVENT
DTSTART;TZID=UTC:20280115T150000
DTEND;TZID=UTC:20280115T190000
DTSTAMP:20260422T174134
CREATED:20250421T201532Z
LAST-MODIFIED:20260313T220452Z
UID:10009773-1831561200-1831575600@www.thekingshead.ca
SUMMARY:PBR Saturday Afternoon Jam
DESCRIPTION:PBR Presents- Saturday Afternoon Jam 3pm-7pm. Great community coming together and local artists having fun together on stage. \nSaturday Specials: \nHAPPY HOUR – 3pm – 7pm $5 House Pints & Highballs \n$6.75 PBR Pints & Tall Cans – 11:30 “til 7pm \n$35.25 Kings Head Platter (2lb of Wings & 2 Pounds of Dry Ribs served with Carrots\, Celery and Ranch) ALL DAY
URL:https://www.thekingshead.ca/events/event/pbr-saturday-afternoon-jam/2028-01-15/
ATTACH;FMTTYPE=image/jpeg:https://www.thekingshead.ca/events/wp-content/uploads/2023/06/KHSAT2025web.jpg
END:VEVENT
BEGIN:VEVENT
DTSTART;TZID=UTC:20280122T150000
DTEND;TZID=UTC:20280122T190000
DTSTAMP:20260422T174134
CREATED:20250421T201532Z
LAST-MODIFIED:20260313T220452Z
UID:10009774-1832166000-1832180400@www.thekingshead.ca
SUMMARY:PBR Saturday Afternoon Jam
DESCRIPTION:PBR Presents- Saturday Afternoon Jam 3pm-7pm. Great community coming together and local artists having fun together on stage. \nSaturday Specials: \nHAPPY HOUR – 3pm – 7pm $5 House Pints & Highballs \n$6.75 PBR Pints & Tall Cans – 11:30 “til 7pm \n$35.25 Kings Head Platter (2lb of Wings & 2 Pounds of Dry Ribs served with Carrots\, Celery and Ranch) ALL DAY
URL:https://www.thekingshead.ca/events/event/pbr-saturday-afternoon-jam/2028-01-22/
ATTACH;FMTTYPE=image/jpeg:https://www.thekingshead.ca/events/wp-content/uploads/2023/06/KHSAT2025web.jpg
END:VEVENT
BEGIN:VEVENT
DTSTART;TZID=UTC:20280129T150000
DTEND;TZID=UTC:20280129T190000
DTSTAMP:20260422T174134
CREATED:20250421T201532Z
LAST-MODIFIED:20260313T220452Z
UID:10009775-1832770800-1832785200@www.thekingshead.ca
SUMMARY:PBR Saturday Afternoon Jam
DESCRIPTION:PBR Presents- Saturday Afternoon Jam 3pm-7pm. Great community coming together and local artists having fun together on stage. \nSaturday Specials: \nHAPPY HOUR – 3pm – 7pm $5 House Pints & Highballs \n$6.75 PBR Pints & Tall Cans – 11:30 “til 7pm \n$35.25 Kings Head Platter (2lb of Wings & 2 Pounds of Dry Ribs served with Carrots\, Celery and Ranch) ALL DAY
URL:https://www.thekingshead.ca/events/event/pbr-saturday-afternoon-jam/2028-01-29/
ATTACH;FMTTYPE=image/jpeg:https://www.thekingshead.ca/events/wp-content/uploads/2023/06/KHSAT2025web.jpg
END:VEVENT
BEGIN:VEVENT
DTSTART;TZID=UTC:20280205T150000
DTEND;TZID=UTC:20280205T190000
DTSTAMP:20260422T174134
CREATED:20250421T201532Z
LAST-MODIFIED:20260313T220452Z
UID:10009776-1833375600-1833390000@www.thekingshead.ca
SUMMARY:PBR Saturday Afternoon Jam
DESCRIPTION:PBR Presents- Saturday Afternoon Jam 3pm-7pm. Great community coming together and local artists having fun together on stage. \nSaturday Specials: \nHAPPY HOUR – 3pm – 7pm $5 House Pints & Highballs \n$6.75 PBR Pints & Tall Cans – 11:30 “til 7pm \n$35.25 Kings Head Platter (2lb of Wings & 2 Pounds of Dry Ribs served with Carrots\, Celery and Ranch) ALL DAY
URL:https://www.thekingshead.ca/events/event/pbr-saturday-afternoon-jam/2028-02-05/
ATTACH;FMTTYPE=image/jpeg:https://www.thekingshead.ca/events/wp-content/uploads/2023/06/KHSAT2025web.jpg
END:VEVENT
BEGIN:VEVENT
DTSTART;TZID=UTC:20280212T150000
DTEND;TZID=UTC:20280212T190000
DTSTAMP:20260422T174134
CREATED:20250421T201532Z
LAST-MODIFIED:20260313T220452Z
UID:10009777-1833980400-1833994800@www.thekingshead.ca
SUMMARY:PBR Saturday Afternoon Jam
DESCRIPTION:PBR Presents- Saturday Afternoon Jam 3pm-7pm. Great community coming together and local artists having fun together on stage. \nSaturday Specials: \nHAPPY HOUR – 3pm – 7pm $5 House Pints & Highballs \n$6.75 PBR Pints & Tall Cans – 11:30 “til 7pm \n$35.25 Kings Head Platter (2lb of Wings & 2 Pounds of Dry Ribs served with Carrots\, Celery and Ranch) ALL DAY
URL:https://www.thekingshead.ca/events/event/pbr-saturday-afternoon-jam/2028-02-12/
ATTACH;FMTTYPE=image/jpeg:https://www.thekingshead.ca/events/wp-content/uploads/2023/06/KHSAT2025web.jpg
END:VEVENT
BEGIN:VEVENT
DTSTART;TZID=UTC:20280219T150000
DTEND;TZID=UTC:20280219T190000
DTSTAMP:20260422T174134
CREATED:20250421T201532Z
LAST-MODIFIED:20260313T220452Z
UID:10009778-1834585200-1834599600@www.thekingshead.ca
SUMMARY:PBR Saturday Afternoon Jam
DESCRIPTION:PBR Presents- Saturday Afternoon Jam 3pm-7pm. Great community coming together and local artists having fun together on stage. \nSaturday Specials: \nHAPPY HOUR – 3pm – 7pm $5 House Pints & Highballs \n$6.75 PBR Pints & Tall Cans – 11:30 “til 7pm \n$35.25 Kings Head Platter (2lb of Wings & 2 Pounds of Dry Ribs served with Carrots\, Celery and Ranch) ALL DAY
URL:https://www.thekingshead.ca/events/event/pbr-saturday-afternoon-jam/2028-02-19/
ATTACH;FMTTYPE=image/jpeg:https://www.thekingshead.ca/events/wp-content/uploads/2023/06/KHSAT2025web.jpg
END:VEVENT
BEGIN:VEVENT
DTSTART;TZID=UTC:20280226T150000
DTEND;TZID=UTC:20280226T190000
DTSTAMP:20260422T174134
CREATED:20250421T201532Z
LAST-MODIFIED:20260313T220452Z
UID:10009779-1835190000-1835204400@www.thekingshead.ca
SUMMARY:PBR Saturday Afternoon Jam
DESCRIPTION:PBR Presents- Saturday Afternoon Jam 3pm-7pm. Great community coming together and local artists having fun together on stage. \nSaturday Specials: \nHAPPY HOUR – 3pm – 7pm $5 House Pints & Highballs \n$6.75 PBR Pints & Tall Cans – 11:30 “til 7pm \n$35.25 Kings Head Platter (2lb of Wings & 2 Pounds of Dry Ribs served with Carrots\, Celery and Ranch) ALL DAY
URL:https://www.thekingshead.ca/events/event/pbr-saturday-afternoon-jam/2028-02-26/
ATTACH;FMTTYPE=image/jpeg:https://www.thekingshead.ca/events/wp-content/uploads/2023/06/KHSAT2025web.jpg
END:VEVENT
BEGIN:VEVENT
DTSTART;TZID=UTC:20280304T150000
DTEND;TZID=UTC:20280304T190000
DTSTAMP:20260422T174134
CREATED:20250421T201532Z
LAST-MODIFIED:20260313T220452Z
UID:10009780-1835794800-1835809200@www.thekingshead.ca
SUMMARY:PBR Saturday Afternoon Jam
DESCRIPTION:PBR Presents- Saturday Afternoon Jam 3pm-7pm. Great community coming together and local artists having fun together on stage. \nSaturday Specials: \nHAPPY HOUR – 3pm – 7pm $5 House Pints & Highballs \n$6.75 PBR Pints & Tall Cans – 11:30 “til 7pm \n$35.25 Kings Head Platter (2lb of Wings & 2 Pounds of Dry Ribs served with Carrots\, Celery and Ranch) ALL DAY
URL:https://www.thekingshead.ca/events/event/pbr-saturday-afternoon-jam/2028-03-04/
ATTACH;FMTTYPE=image/jpeg:https://www.thekingshead.ca/events/wp-content/uploads/2023/06/KHSAT2025web.jpg
END:VEVENT
BEGIN:VEVENT
DTSTART;TZID=UTC:20280311T150000
DTEND;TZID=UTC:20280311T190000
DTSTAMP:20260422T174134
CREATED:20250421T201532Z
LAST-MODIFIED:20260313T220452Z
UID:10009781-1836399600-1836414000@www.thekingshead.ca
SUMMARY:PBR Saturday Afternoon Jam
DESCRIPTION:PBR Presents- Saturday Afternoon Jam 3pm-7pm. Great community coming together and local artists having fun together on stage. \nSaturday Specials: \nHAPPY HOUR – 3pm – 7pm $5 House Pints & Highballs \n$6.75 PBR Pints & Tall Cans – 11:30 “til 7pm \n$35.25 Kings Head Platter (2lb of Wings & 2 Pounds of Dry Ribs served with Carrots\, Celery and Ranch) ALL DAY
URL:https://www.thekingshead.ca/events/event/pbr-saturday-afternoon-jam/2028-03-11/
ATTACH;FMTTYPE=image/jpeg:https://www.thekingshead.ca/events/wp-content/uploads/2023/06/KHSAT2025web.jpg
END:VEVENT
BEGIN:VEVENT
DTSTART;TZID=UTC:20280318T150000
DTEND;TZID=UTC:20280318T190000
DTSTAMP:20260422T174134
CREATED:20250421T201532Z
LAST-MODIFIED:20260313T220452Z
UID:10009782-1837004400-1837018800@www.thekingshead.ca
SUMMARY:PBR Saturday Afternoon Jam
DESCRIPTION:PBR Presents- Saturday Afternoon Jam 3pm-7pm. Great community coming together and local artists having fun together on stage. \nSaturday Specials: \nHAPPY HOUR – 3pm – 7pm $5 House Pints & Highballs \n$6.75 PBR Pints & Tall Cans – 11:30 “til 7pm \n$35.25 Kings Head Platter (2lb of Wings & 2 Pounds of Dry Ribs served with Carrots\, Celery and Ranch) ALL DAY
URL:https://www.thekingshead.ca/events/event/pbr-saturday-afternoon-jam/2028-03-18/
ATTACH;FMTTYPE=image/jpeg:https://www.thekingshead.ca/events/wp-content/uploads/2023/06/KHSAT2025web.jpg
END:VEVENT
END:VCALENDAR