BEGIN:VCALENDAR
VERSION:2.0
PRODID:-//The Kings Head - ECPv6.8.3//NONSGML v1.0//EN
CALSCALE:GREGORIAN
METHOD:PUBLISH
X-WR-CALNAME:The Kings Head
X-ORIGINAL-URL:https://www.thekingshead.ca/events
X-WR-CALDESC:Events for The Kings Head
REFRESH-INTERVAL;VALUE=DURATION:PT1H
X-Robots-Tag:noindex
X-PUBLISHED-TTL:PT1H
BEGIN:VTIMEZONE
TZID:UTC
BEGIN:STANDARD
TZOFFSETFROM:+0000
TZOFFSETTO:+0000
TZNAME:UTC
DTSTART:20300101T000000
END:STANDARD
END:VTIMEZONE
BEGIN:VEVENT
DTSTART;TZID=UTC:20300219T200000
DTEND;TZID=UTC:20300219T233000
DTSTAMP:20260421T192932
CREATED:20240220T002158Z
LAST-MODIFIED:20260421T173434Z
UID:10010517-1897761600-1897774200@www.thekingshead.ca
SUMMARY:Karaoke Night
DESCRIPTION: Karaoke Night hosted by Darcy Lebo every Tuesday 8pm-11:30pm. Come sing your heart out! \nHAPPY HOUR – 3pm – 7pm $5.25 House Pints & Highballs \nTuesday Food & Drink Specials Open to Close: Half Price Tacos | $6.75 1oz Margaritas
URL:https://www.thekingshead.ca/events/event/karaoke-night/2030-02-19/
ATTACH;FMTTYPE=image/jpeg:https://www.thekingshead.ca/events/wp-content/uploads/2024/02/KHTues2025web.jpg
END:VEVENT
BEGIN:VEVENT
DTSTART;TZID=UTC:20300226T200000
DTEND;TZID=UTC:20300226T233000
DTSTAMP:20260421T192932
CREATED:20240220T002158Z
LAST-MODIFIED:20260421T173434Z
UID:10010518-1898366400-1898379000@www.thekingshead.ca
SUMMARY:Karaoke Night
DESCRIPTION: Karaoke Night hosted by Darcy Lebo every Tuesday 8pm-11:30pm. Come sing your heart out! \nHAPPY HOUR – 3pm – 7pm $5.25 House Pints & Highballs \nTuesday Food & Drink Specials Open to Close: Half Price Tacos | $6.75 1oz Margaritas
URL:https://www.thekingshead.ca/events/event/karaoke-night/2030-02-26/
ATTACH;FMTTYPE=image/jpeg:https://www.thekingshead.ca/events/wp-content/uploads/2024/02/KHTues2025web.jpg
END:VEVENT
BEGIN:VEVENT
DTSTART;TZID=UTC:20300305T200000
DTEND;TZID=UTC:20300305T233000
DTSTAMP:20260421T192932
CREATED:20240220T002158Z
LAST-MODIFIED:20260421T173434Z
UID:10010519-1898971200-1898983800@www.thekingshead.ca
SUMMARY:Karaoke Night
DESCRIPTION: Karaoke Night hosted by Darcy Lebo every Tuesday 8pm-11:30pm. Come sing your heart out! \nHAPPY HOUR – 3pm – 7pm $5.25 House Pints & Highballs \nTuesday Food & Drink Specials Open to Close: Half Price Tacos | $6.75 1oz Margaritas
URL:https://www.thekingshead.ca/events/event/karaoke-night/2030-03-05/
ATTACH;FMTTYPE=image/jpeg:https://www.thekingshead.ca/events/wp-content/uploads/2024/02/KHTues2025web.jpg
END:VEVENT
BEGIN:VEVENT
DTSTART;TZID=UTC:20300312T200000
DTEND;TZID=UTC:20300312T233000
DTSTAMP:20260421T192932
CREATED:20240220T002158Z
LAST-MODIFIED:20260421T173434Z
UID:10010520-1899576000-1899588600@www.thekingshead.ca
SUMMARY:Karaoke Night
DESCRIPTION: Karaoke Night hosted by Darcy Lebo every Tuesday 8pm-11:30pm. Come sing your heart out! \nHAPPY HOUR – 3pm – 7pm $5.25 House Pints & Highballs \nTuesday Food & Drink Specials Open to Close: Half Price Tacos | $6.75 1oz Margaritas
URL:https://www.thekingshead.ca/events/event/karaoke-night/2030-03-12/
ATTACH;FMTTYPE=image/jpeg:https://www.thekingshead.ca/events/wp-content/uploads/2024/02/KHTues2025web.jpg
END:VEVENT
BEGIN:VEVENT
DTSTART;TZID=UTC:20300319T200000
DTEND;TZID=UTC:20300319T233000
DTSTAMP:20260421T192932
CREATED:20240220T002158Z
LAST-MODIFIED:20260421T173434Z
UID:10010521-1900180800-1900193400@www.thekingshead.ca
SUMMARY:Karaoke Night
DESCRIPTION: Karaoke Night hosted by Darcy Lebo every Tuesday 8pm-11:30pm. Come sing your heart out! \nHAPPY HOUR – 3pm – 7pm $5.25 House Pints & Highballs \nTuesday Food & Drink Specials Open to Close: Half Price Tacos | $6.75 1oz Margaritas
URL:https://www.thekingshead.ca/events/event/karaoke-night/2030-03-19/
ATTACH;FMTTYPE=image/jpeg:https://www.thekingshead.ca/events/wp-content/uploads/2024/02/KHTues2025web.jpg
END:VEVENT
BEGIN:VEVENT
DTSTART;TZID=UTC:20300326T200000
DTEND;TZID=UTC:20300326T233000
DTSTAMP:20260421T192932
CREATED:20240220T002158Z
LAST-MODIFIED:20260421T173434Z
UID:10010522-1900785600-1900798200@www.thekingshead.ca
SUMMARY:Karaoke Night
DESCRIPTION: Karaoke Night hosted by Darcy Lebo every Tuesday 8pm-11:30pm. Come sing your heart out! \nHAPPY HOUR – 3pm – 7pm $5.25 House Pints & Highballs \nTuesday Food & Drink Specials Open to Close: Half Price Tacos | $6.75 1oz Margaritas
URL:https://www.thekingshead.ca/events/event/karaoke-night/2030-03-26/
ATTACH;FMTTYPE=image/jpeg:https://www.thekingshead.ca/events/wp-content/uploads/2024/02/KHTues2025web.jpg
END:VEVENT
BEGIN:VEVENT
DTSTART;TZID=UTC:20300402T200000
DTEND;TZID=UTC:20300402T233000
DTSTAMP:20260421T192932
CREATED:20240220T002158Z
LAST-MODIFIED:20260421T173434Z
UID:10010523-1901390400-1901403000@www.thekingshead.ca
SUMMARY:Karaoke Night
DESCRIPTION: Karaoke Night hosted by Darcy Lebo every Tuesday 8pm-11:30pm. Come sing your heart out! \nHAPPY HOUR – 3pm – 7pm $5.25 House Pints & Highballs \nTuesday Food & Drink Specials Open to Close: Half Price Tacos | $6.75 1oz Margaritas
URL:https://www.thekingshead.ca/events/event/karaoke-night/2030-04-02/
ATTACH;FMTTYPE=image/jpeg:https://www.thekingshead.ca/events/wp-content/uploads/2024/02/KHTues2025web.jpg
END:VEVENT
BEGIN:VEVENT
DTSTART;TZID=UTC:20300409T200000
DTEND;TZID=UTC:20300409T233000
DTSTAMP:20260421T192932
CREATED:20240220T002158Z
LAST-MODIFIED:20260421T173434Z
UID:10010524-1901995200-1902007800@www.thekingshead.ca
SUMMARY:Karaoke Night
DESCRIPTION: Karaoke Night hosted by Darcy Lebo every Tuesday 8pm-11:30pm. Come sing your heart out! \nHAPPY HOUR – 3pm – 7pm $5.25 House Pints & Highballs \nTuesday Food & Drink Specials Open to Close: Half Price Tacos | $6.75 1oz Margaritas
URL:https://www.thekingshead.ca/events/event/karaoke-night/2030-04-09/
ATTACH;FMTTYPE=image/jpeg:https://www.thekingshead.ca/events/wp-content/uploads/2024/02/KHTues2025web.jpg
END:VEVENT
BEGIN:VEVENT
DTSTART;TZID=UTC:20300416T200000
DTEND;TZID=UTC:20300416T233000
DTSTAMP:20260421T192932
CREATED:20240220T002158Z
LAST-MODIFIED:20260421T173434Z
UID:10010525-1902600000-1902612600@www.thekingshead.ca
SUMMARY:Karaoke Night
DESCRIPTION: Karaoke Night hosted by Darcy Lebo every Tuesday 8pm-11:30pm. Come sing your heart out! \nHAPPY HOUR – 3pm – 7pm $5.25 House Pints & Highballs \nTuesday Food & Drink Specials Open to Close: Half Price Tacos | $6.75 1oz Margaritas
URL:https://www.thekingshead.ca/events/event/karaoke-night/2030-04-16/
ATTACH;FMTTYPE=image/jpeg:https://www.thekingshead.ca/events/wp-content/uploads/2024/02/KHTues2025web.jpg
END:VEVENT
BEGIN:VEVENT
DTSTART;TZID=UTC:20300423T200000
DTEND;TZID=UTC:20300423T233000
DTSTAMP:20260421T192932
CREATED:20240220T002158Z
LAST-MODIFIED:20260421T173434Z
UID:10010526-1903204800-1903217400@www.thekingshead.ca
SUMMARY:Karaoke Night
DESCRIPTION: Karaoke Night hosted by Darcy Lebo every Tuesday 8pm-11:30pm. Come sing your heart out! \nHAPPY HOUR – 3pm – 7pm $5.25 House Pints & Highballs \nTuesday Food & Drink Specials Open to Close: Half Price Tacos | $6.75 1oz Margaritas
URL:https://www.thekingshead.ca/events/event/karaoke-night/2030-04-23/
ATTACH;FMTTYPE=image/jpeg:https://www.thekingshead.ca/events/wp-content/uploads/2024/02/KHTues2025web.jpg
END:VEVENT
BEGIN:VEVENT
DTSTART;TZID=UTC:20300430T200000
DTEND;TZID=UTC:20300430T233000
DTSTAMP:20260421T192932
CREATED:20240220T002158Z
LAST-MODIFIED:20260421T173434Z
UID:10010527-1903809600-1903822200@www.thekingshead.ca
SUMMARY:Karaoke Night
DESCRIPTION: Karaoke Night hosted by Darcy Lebo every Tuesday 8pm-11:30pm. Come sing your heart out! \nHAPPY HOUR – 3pm – 7pm $5.25 House Pints & Highballs \nTuesday Food & Drink Specials Open to Close: Half Price Tacos | $6.75 1oz Margaritas
URL:https://www.thekingshead.ca/events/event/karaoke-night/2030-04-30/
ATTACH;FMTTYPE=image/jpeg:https://www.thekingshead.ca/events/wp-content/uploads/2024/02/KHTues2025web.jpg
END:VEVENT
BEGIN:VEVENT
DTSTART;TZID=UTC:20300507T200000
DTEND;TZID=UTC:20300507T233000
DTSTAMP:20260421T192932
CREATED:20240220T002158Z
LAST-MODIFIED:20260421T173434Z
UID:10010528-1904414400-1904427000@www.thekingshead.ca
SUMMARY:Karaoke Night
DESCRIPTION: Karaoke Night hosted by Darcy Lebo every Tuesday 8pm-11:30pm. Come sing your heart out! \nHAPPY HOUR – 3pm – 7pm $5.25 House Pints & Highballs \nTuesday Food & Drink Specials Open to Close: Half Price Tacos | $6.75 1oz Margaritas
URL:https://www.thekingshead.ca/events/event/karaoke-night/2030-05-07/
ATTACH;FMTTYPE=image/jpeg:https://www.thekingshead.ca/events/wp-content/uploads/2024/02/KHTues2025web.jpg
END:VEVENT
BEGIN:VEVENT
DTSTART;TZID=UTC:20300514T200000
DTEND;TZID=UTC:20300514T233000
DTSTAMP:20260421T192932
CREATED:20240220T002158Z
LAST-MODIFIED:20260421T173434Z
UID:10010529-1905019200-1905031800@www.thekingshead.ca
SUMMARY:Karaoke Night
DESCRIPTION: Karaoke Night hosted by Darcy Lebo every Tuesday 8pm-11:30pm. Come sing your heart out! \nHAPPY HOUR – 3pm – 7pm $5.25 House Pints & Highballs \nTuesday Food & Drink Specials Open to Close: Half Price Tacos | $6.75 1oz Margaritas
URL:https://www.thekingshead.ca/events/event/karaoke-night/2030-05-14/
ATTACH;FMTTYPE=image/jpeg:https://www.thekingshead.ca/events/wp-content/uploads/2024/02/KHTues2025web.jpg
END:VEVENT
BEGIN:VEVENT
DTSTART;TZID=UTC:20300521T200000
DTEND;TZID=UTC:20300521T233000
DTSTAMP:20260421T192932
CREATED:20240220T002158Z
LAST-MODIFIED:20260421T173434Z
UID:10010530-1905624000-1905636600@www.thekingshead.ca
SUMMARY:Karaoke Night
DESCRIPTION: Karaoke Night hosted by Darcy Lebo every Tuesday 8pm-11:30pm. Come sing your heart out! \nHAPPY HOUR – 3pm – 7pm $5.25 House Pints & Highballs \nTuesday Food & Drink Specials Open to Close: Half Price Tacos | $6.75 1oz Margaritas
URL:https://www.thekingshead.ca/events/event/karaoke-night/2030-05-21/
ATTACH;FMTTYPE=image/jpeg:https://www.thekingshead.ca/events/wp-content/uploads/2024/02/KHTues2025web.jpg
END:VEVENT
BEGIN:VEVENT
DTSTART;TZID=UTC:20300528T200000
DTEND;TZID=UTC:20300528T233000
DTSTAMP:20260421T192932
CREATED:20240220T002158Z
LAST-MODIFIED:20260421T173434Z
UID:10010531-1906228800-1906241400@www.thekingshead.ca
SUMMARY:Karaoke Night
DESCRIPTION: Karaoke Night hosted by Darcy Lebo every Tuesday 8pm-11:30pm. Come sing your heart out! \nHAPPY HOUR – 3pm – 7pm $5.25 House Pints & Highballs \nTuesday Food & Drink Specials Open to Close: Half Price Tacos | $6.75 1oz Margaritas
URL:https://www.thekingshead.ca/events/event/karaoke-night/2030-05-28/
ATTACH;FMTTYPE=image/jpeg:https://www.thekingshead.ca/events/wp-content/uploads/2024/02/KHTues2025web.jpg
END:VEVENT
BEGIN:VEVENT
DTSTART;TZID=UTC:20300604T200000
DTEND;TZID=UTC:20300604T233000
DTSTAMP:20260421T192932
CREATED:20240220T002158Z
LAST-MODIFIED:20260421T173434Z
UID:10010532-1906833600-1906846200@www.thekingshead.ca
SUMMARY:Karaoke Night
DESCRIPTION: Karaoke Night hosted by Darcy Lebo every Tuesday 8pm-11:30pm. Come sing your heart out! \nHAPPY HOUR – 3pm – 7pm $5.25 House Pints & Highballs \nTuesday Food & Drink Specials Open to Close: Half Price Tacos | $6.75 1oz Margaritas
URL:https://www.thekingshead.ca/events/event/karaoke-night/2030-06-04/
ATTACH;FMTTYPE=image/jpeg:https://www.thekingshead.ca/events/wp-content/uploads/2024/02/KHTues2025web.jpg
END:VEVENT
BEGIN:VEVENT
DTSTART;TZID=UTC:20300611T200000
DTEND;TZID=UTC:20300611T233000
DTSTAMP:20260421T192932
CREATED:20240220T002158Z
LAST-MODIFIED:20260421T173434Z
UID:10010533-1907438400-1907451000@www.thekingshead.ca
SUMMARY:Karaoke Night
DESCRIPTION: Karaoke Night hosted by Darcy Lebo every Tuesday 8pm-11:30pm. Come sing your heart out! \nHAPPY HOUR – 3pm – 7pm $5.25 House Pints & Highballs \nTuesday Food & Drink Specials Open to Close: Half Price Tacos | $6.75 1oz Margaritas
URL:https://www.thekingshead.ca/events/event/karaoke-night/2030-06-11/
ATTACH;FMTTYPE=image/jpeg:https://www.thekingshead.ca/events/wp-content/uploads/2024/02/KHTues2025web.jpg
END:VEVENT
BEGIN:VEVENT
DTSTART;TZID=UTC:20300618T200000
DTEND;TZID=UTC:20300618T233000
DTSTAMP:20260421T192932
CREATED:20240220T002158Z
LAST-MODIFIED:20260421T173434Z
UID:10010534-1908043200-1908055800@www.thekingshead.ca
SUMMARY:Karaoke Night
DESCRIPTION: Karaoke Night hosted by Darcy Lebo every Tuesday 8pm-11:30pm. Come sing your heart out! \nHAPPY HOUR – 3pm – 7pm $5.25 House Pints & Highballs \nTuesday Food & Drink Specials Open to Close: Half Price Tacos | $6.75 1oz Margaritas
URL:https://www.thekingshead.ca/events/event/karaoke-night/2030-06-18/
ATTACH;FMTTYPE=image/jpeg:https://www.thekingshead.ca/events/wp-content/uploads/2024/02/KHTues2025web.jpg
END:VEVENT
BEGIN:VEVENT
DTSTART;TZID=UTC:20300625T200000
DTEND;TZID=UTC:20300625T233000
DTSTAMP:20260421T192932
CREATED:20240220T002158Z
LAST-MODIFIED:20260421T173434Z
UID:10011922-1908648000-1908660600@www.thekingshead.ca
SUMMARY:Karaoke Night
DESCRIPTION: Karaoke Night hosted by Darcy Lebo every Tuesday 8pm-11:30pm. Come sing your heart out! \nHAPPY HOUR – 3pm – 7pm $5.25 House Pints & Highballs \nTuesday Food & Drink Specials Open to Close: Half Price Tacos | $6.75 1oz Margaritas
URL:https://www.thekingshead.ca/events/event/karaoke-night/2030-06-25/
ATTACH;FMTTYPE=image/jpeg:https://www.thekingshead.ca/events/wp-content/uploads/2024/02/KHTues2025web.jpg
END:VEVENT
BEGIN:VEVENT
DTSTART;TZID=UTC:20300702T200000
DTEND;TZID=UTC:20300702T233000
DTSTAMP:20260421T192932
CREATED:20240220T002158Z
LAST-MODIFIED:20260421T173434Z
UID:10011923-1909252800-1909265400@www.thekingshead.ca
SUMMARY:Karaoke Night
DESCRIPTION: Karaoke Night hosted by Darcy Lebo every Tuesday 8pm-11:30pm. Come sing your heart out! \nHAPPY HOUR – 3pm – 7pm $5.25 House Pints & Highballs \nTuesday Food & Drink Specials Open to Close: Half Price Tacos | $6.75 1oz Margaritas
URL:https://www.thekingshead.ca/events/event/karaoke-night/2030-07-02/
ATTACH;FMTTYPE=image/jpeg:https://www.thekingshead.ca/events/wp-content/uploads/2024/02/KHTues2025web.jpg
END:VEVENT
BEGIN:VEVENT
DTSTART;TZID=UTC:20300709T200000
DTEND;TZID=UTC:20300709T233000
DTSTAMP:20260421T192932
CREATED:20240220T002158Z
LAST-MODIFIED:20260421T173434Z
UID:10011924-1909857600-1909870200@www.thekingshead.ca
SUMMARY:Karaoke Night
DESCRIPTION: Karaoke Night hosted by Darcy Lebo every Tuesday 8pm-11:30pm. Come sing your heart out! \nHAPPY HOUR – 3pm – 7pm $5.25 House Pints & Highballs \nTuesday Food & Drink Specials Open to Close: Half Price Tacos | $6.75 1oz Margaritas
URL:https://www.thekingshead.ca/events/event/karaoke-night/2030-07-09/
ATTACH;FMTTYPE=image/jpeg:https://www.thekingshead.ca/events/wp-content/uploads/2024/02/KHTues2025web.jpg
END:VEVENT
BEGIN:VEVENT
DTSTART;TZID=UTC:20300716T200000
DTEND;TZID=UTC:20300716T233000
DTSTAMP:20260421T192932
CREATED:20240220T002158Z
LAST-MODIFIED:20260421T173434Z
UID:10011925-1910462400-1910475000@www.thekingshead.ca
SUMMARY:Karaoke Night
DESCRIPTION: Karaoke Night hosted by Darcy Lebo every Tuesday 8pm-11:30pm. Come sing your heart out! \nHAPPY HOUR – 3pm – 7pm $5.25 House Pints & Highballs \nTuesday Food & Drink Specials Open to Close: Half Price Tacos | $6.75 1oz Margaritas
URL:https://www.thekingshead.ca/events/event/karaoke-night/2030-07-16/
ATTACH;FMTTYPE=image/jpeg:https://www.thekingshead.ca/events/wp-content/uploads/2024/02/KHTues2025web.jpg
END:VEVENT
BEGIN:VEVENT
DTSTART;TZID=UTC:20300723T200000
DTEND;TZID=UTC:20300723T233000
DTSTAMP:20260421T192932
CREATED:20240220T002158Z
LAST-MODIFIED:20260421T173434Z
UID:10011926-1911067200-1911079800@www.thekingshead.ca
SUMMARY:Karaoke Night
DESCRIPTION: Karaoke Night hosted by Darcy Lebo every Tuesday 8pm-11:30pm. Come sing your heart out! \nHAPPY HOUR – 3pm – 7pm $5.25 House Pints & Highballs \nTuesday Food & Drink Specials Open to Close: Half Price Tacos | $6.75 1oz Margaritas
URL:https://www.thekingshead.ca/events/event/karaoke-night/2030-07-23/
ATTACH;FMTTYPE=image/jpeg:https://www.thekingshead.ca/events/wp-content/uploads/2024/02/KHTues2025web.jpg
END:VEVENT
BEGIN:VEVENT
DTSTART;TZID=UTC:20300730T200000
DTEND;TZID=UTC:20300730T233000
DTSTAMP:20260421T192932
CREATED:20240220T002158Z
LAST-MODIFIED:20260421T173434Z
UID:10011927-1911672000-1911684600@www.thekingshead.ca
SUMMARY:Karaoke Night
DESCRIPTION: Karaoke Night hosted by Darcy Lebo every Tuesday 8pm-11:30pm. Come sing your heart out! \nHAPPY HOUR – 3pm – 7pm $5.25 House Pints & Highballs \nTuesday Food & Drink Specials Open to Close: Half Price Tacos | $6.75 1oz Margaritas
URL:https://www.thekingshead.ca/events/event/karaoke-night/2030-07-30/
ATTACH;FMTTYPE=image/jpeg:https://www.thekingshead.ca/events/wp-content/uploads/2024/02/KHTues2025web.jpg
END:VEVENT
BEGIN:VEVENT
DTSTART;TZID=UTC:20300806T200000
DTEND;TZID=UTC:20300806T233000
DTSTAMP:20260421T192932
CREATED:20240220T002158Z
LAST-MODIFIED:20260421T173434Z
UID:10011928-1912276800-1912289400@www.thekingshead.ca
SUMMARY:Karaoke Night
DESCRIPTION: Karaoke Night hosted by Darcy Lebo every Tuesday 8pm-11:30pm. Come sing your heart out! \nHAPPY HOUR – 3pm – 7pm $5.25 House Pints & Highballs \nTuesday Food & Drink Specials Open to Close: Half Price Tacos | $6.75 1oz Margaritas
URL:https://www.thekingshead.ca/events/event/karaoke-night/2030-08-06/
ATTACH;FMTTYPE=image/jpeg:https://www.thekingshead.ca/events/wp-content/uploads/2024/02/KHTues2025web.jpg
END:VEVENT
BEGIN:VEVENT
DTSTART;TZID=UTC:20300813T200000
DTEND;TZID=UTC:20300813T233000
DTSTAMP:20260421T192932
CREATED:20240220T002158Z
LAST-MODIFIED:20260421T173434Z
UID:10011929-1912881600-1912894200@www.thekingshead.ca
SUMMARY:Karaoke Night
DESCRIPTION: Karaoke Night hosted by Darcy Lebo every Tuesday 8pm-11:30pm. Come sing your heart out! \nHAPPY HOUR – 3pm – 7pm $5.25 House Pints & Highballs \nTuesday Food & Drink Specials Open to Close: Half Price Tacos | $6.75 1oz Margaritas
URL:https://www.thekingshead.ca/events/event/karaoke-night/2030-08-13/
ATTACH;FMTTYPE=image/jpeg:https://www.thekingshead.ca/events/wp-content/uploads/2024/02/KHTues2025web.jpg
END:VEVENT
BEGIN:VEVENT
DTSTART;TZID=UTC:20300820T200000
DTEND;TZID=UTC:20300820T233000
DTSTAMP:20260421T192932
CREATED:20240220T002158Z
LAST-MODIFIED:20260421T173434Z
UID:10011930-1913486400-1913499000@www.thekingshead.ca
SUMMARY:Karaoke Night
DESCRIPTION: Karaoke Night hosted by Darcy Lebo every Tuesday 8pm-11:30pm. Come sing your heart out! \nHAPPY HOUR – 3pm – 7pm $5.25 House Pints & Highballs \nTuesday Food & Drink Specials Open to Close: Half Price Tacos | $6.75 1oz Margaritas
URL:https://www.thekingshead.ca/events/event/karaoke-night/2030-08-20/
ATTACH;FMTTYPE=image/jpeg:https://www.thekingshead.ca/events/wp-content/uploads/2024/02/KHTues2025web.jpg
END:VEVENT
BEGIN:VEVENT
DTSTART;TZID=UTC:20300827T200000
DTEND;TZID=UTC:20300827T233000
DTSTAMP:20260421T192932
CREATED:20240220T002158Z
LAST-MODIFIED:20260421T173434Z
UID:10011931-1914091200-1914103800@www.thekingshead.ca
SUMMARY:Karaoke Night
DESCRIPTION: Karaoke Night hosted by Darcy Lebo every Tuesday 8pm-11:30pm. Come sing your heart out! \nHAPPY HOUR – 3pm – 7pm $5.25 House Pints & Highballs \nTuesday Food & Drink Specials Open to Close: Half Price Tacos | $6.75 1oz Margaritas
URL:https://www.thekingshead.ca/events/event/karaoke-night/2030-08-27/
ATTACH;FMTTYPE=image/jpeg:https://www.thekingshead.ca/events/wp-content/uploads/2024/02/KHTues2025web.jpg
END:VEVENT
BEGIN:VEVENT
DTSTART;TZID=UTC:20300903T200000
DTEND;TZID=UTC:20300903T233000
DTSTAMP:20260421T192932
CREATED:20240220T002158Z
LAST-MODIFIED:20260421T173434Z
UID:10011932-1914696000-1914708600@www.thekingshead.ca
SUMMARY:Karaoke Night
DESCRIPTION: Karaoke Night hosted by Darcy Lebo every Tuesday 8pm-11:30pm. Come sing your heart out! \nHAPPY HOUR – 3pm – 7pm $5.25 House Pints & Highballs \nTuesday Food & Drink Specials Open to Close: Half Price Tacos | $6.75 1oz Margaritas
URL:https://www.thekingshead.ca/events/event/karaoke-night/2030-09-03/
ATTACH;FMTTYPE=image/jpeg:https://www.thekingshead.ca/events/wp-content/uploads/2024/02/KHTues2025web.jpg
END:VEVENT
BEGIN:VEVENT
DTSTART;TZID=UTC:20300910T200000
DTEND;TZID=UTC:20300910T233000
DTSTAMP:20260421T192932
CREATED:20240220T002158Z
LAST-MODIFIED:20260421T173434Z
UID:10011933-1915300800-1915313400@www.thekingshead.ca
SUMMARY:Karaoke Night
DESCRIPTION: Karaoke Night hosted by Darcy Lebo every Tuesday 8pm-11:30pm. Come sing your heart out! \nHAPPY HOUR – 3pm – 7pm $5.25 House Pints & Highballs \nTuesday Food & Drink Specials Open to Close: Half Price Tacos | $6.75 1oz Margaritas
URL:https://www.thekingshead.ca/events/event/karaoke-night/2030-09-10/
ATTACH;FMTTYPE=image/jpeg:https://www.thekingshead.ca/events/wp-content/uploads/2024/02/KHTues2025web.jpg
END:VEVENT
END:VCALENDAR