BEGIN:VCALENDAR
VERSION:2.0
PRODID:-//The Kings Head - ECPv6.8.3//NONSGML v1.0//EN
CALSCALE:GREGORIAN
METHOD:PUBLISH
X-WR-CALNAME:The Kings Head
X-ORIGINAL-URL:https://www.thekingshead.ca/events
X-WR-CALDESC:Events for The Kings Head
REFRESH-INTERVAL;VALUE=DURATION:PT1H
X-Robots-Tag:noindex
X-PUBLISHED-TTL:PT1H
BEGIN:VTIMEZONE
TZID:UTC
BEGIN:STANDARD
TZOFFSETFROM:+0000
TZOFFSETTO:+0000
TZNAME:UTC
DTSTART:20260101T000000
END:STANDARD
END:VTIMEZONE
BEGIN:VEVENT
DTSTART;TZID=UTC:20260501T213000
DTEND;TZID=UTC:20260502T013000
DTSTAMP:20260424T030621
CREATED:20260410T213535Z
LAST-MODIFIED:20260410T213535Z
UID:10012061-1777671000-1777685400@www.thekingshead.ca
SUMMARY:The Time Machine
DESCRIPTION:Get ready to TURN IT UP  Bands play from 9:30pm-1:30am Friday & Saturday Nights \nReserve your night by:\n Guest List access (Friday + Saturday) = Skip the cover fees\n FREE Limo Pickup (Thurs/Fri/Sat) = Arrive in Style + Free Entry\n Table reservations for any day of the week:\nCall 403-259-0111 or hit the website guarentee your spot NOW \n LET’S GET LOUD  \n18+
URL:https://www.thekingshead.ca/events/event/the-time-machine-6/2026-05-01/
ATTACH;FMTTYPE=image/jpeg:https://www.thekingshead.ca/events/wp-content/uploads/2023/09/time.jpg
END:VEVENT
BEGIN:VEVENT
DTSTART;TZID=UTC:20260502T213000
DTEND;TZID=UTC:20260503T013000
DTSTAMP:20260424T030621
CREATED:20260410T213535Z
LAST-MODIFIED:20260410T213535Z
UID:10012062-1777757400-1777771800@www.thekingshead.ca
SUMMARY:The Time Machine
DESCRIPTION:Get ready to TURN IT UP  Bands play from 9:30pm-1:30am Friday & Saturday Nights \nReserve your night by:\n Guest List access (Friday + Saturday) = Skip the cover fees\n FREE Limo Pickup (Thurs/Fri/Sat) = Arrive in Style + Free Entry\n Table reservations for any day of the week:\nCall 403-259-0111 or hit the website guarentee your spot NOW \n LET’S GET LOUD  \n18+
URL:https://www.thekingshead.ca/events/event/the-time-machine-6/2026-05-02/
ATTACH;FMTTYPE=image/jpeg:https://www.thekingshead.ca/events/wp-content/uploads/2023/09/time.jpg
END:VEVENT
END:VCALENDAR