BEGIN:VCALENDAR
VERSION:2.0
PRODID:-//The Kings Head - ECPv6.8.3//NONSGML v1.0//EN
CALSCALE:GREGORIAN
METHOD:PUBLISH
X-WR-CALNAME:The Kings Head
X-ORIGINAL-URL:https://www.thekingshead.ca/events
X-WR-CALDESC:Events for The Kings Head
REFRESH-INTERVAL;VALUE=DURATION:PT1H
X-Robots-Tag:noindex
X-PUBLISHED-TTL:PT1H
BEGIN:VTIMEZONE
TZID:UTC
BEGIN:STANDARD
TZOFFSETFROM:+0000
TZOFFSETTO:+0000
TZNAME:UTC
DTSTART:20260101T000000
END:STANDARD
END:VTIMEZONE
BEGIN:VEVENT
DTSTART;TZID=UTC:20260215T200000
DTEND;TZID=UTC:20260216T020000
DTSTAMP:20260425T234051
CREATED:20260121T173442Z
LAST-MODIFIED:20260121T173723Z
UID:10011890-1771185600-1771207200@www.thekingshead.ca
SUMMARY:ABBA - THANK YOU FOR THE MUSIC
DESCRIPTION:Click Here For Tickets \n🪩 THANK YOU FOR THE MUSIC 🪩A Musical Tribute to ABBA \n📅 Sunday\, February 15th | The King’s Head \nSing\, dance\, and relive all the ABBA hits with Girl Crush bringing the energy\, harmonies\, and nonstop feel-good vibes! 💃✨ \nThis isn’t just a show — it’s a glitter-filled\, high-energy night of nostalgia\, harmonies\, and pure pop joy that’ll have you dancing from start to finish 🪩 \n🔥 One epic night.🎶 One legendary tribute.💃 Don’t miss it! \nDOORS 8PM | 18+
URL:https://www.thekingshead.ca/events/event/1873/
CATEGORIES:Ticketed Events
ATTACH;FMTTYPE=image/jpeg:https://www.thekingshead.ca/events/wp-content/uploads/2026/01/KHABBAfeb15SQAURE.jpg
END:VEVENT
END:VCALENDAR