BEGIN:VCALENDAR
VERSION:2.0
PRODID:-//The Kings Head - ECPv6.8.3//NONSGML v1.0//EN
CALSCALE:GREGORIAN
METHOD:PUBLISH
X-WR-CALNAME:The Kings Head
X-ORIGINAL-URL:https://www.thekingshead.ca/events
X-WR-CALDESC:Events for The Kings Head
REFRESH-INTERVAL;VALUE=DURATION:PT1H
X-Robots-Tag:noindex
X-PUBLISHED-TTL:PT1H
BEGIN:VTIMEZONE
TZID:UTC
BEGIN:STANDARD
TZOFFSETFROM:+0000
TZOFFSETTO:+0000
TZNAME:UTC
DTSTART:20260101T000000
END:STANDARD
END:VTIMEZONE
BEGIN:VEVENT
DTSTART;TZID=UTC:20260326T200000
DTEND;TZID=UTC:20260326T233000
DTSTAMP:20260426T004517
CREATED:20260107T174921Z
LAST-MODIFIED:20260417T183501Z
UID:10011875-1774555200-1774567800@www.thekingshead.ca
SUMMARY:Rock the Ranch - Talent Search
DESCRIPTION:🎸 ROCK THE RANCH – Band Battle Talent Search 🎸 \nPresented by The King’s Head & Fffffing 40s Live Talent & Entertainment \n🔥 Different Bands every 2nd Thursday\n🕗 8:00–11:30 PM | FREE SHOWS\n📅 Starting January 29 | Finals June 4 \n🏆 One band will be crowned and earn a spot on Ranchman’s Stampede Tent Stage King’s Head Takeover 
URL:https://www.thekingshead.ca/events/event/rock-the-ranch-talent-search/2026-03-26/
ATTACH;FMTTYPE=image/jpeg:https://www.thekingshead.ca/events/wp-content/uploads/2026/01/RocktheRanchTALENTsquare.jpg
END:VEVENT
END:VCALENDAR