BEGIN:VCALENDAR
VERSION:2.0
PRODID:-//The Kings Head - ECPv6.8.3//NONSGML v1.0//EN
CALSCALE:GREGORIAN
METHOD:PUBLISH
X-ORIGINAL-URL:https://www.thekingshead.ca/events
X-WR-CALDESC:Events for The Kings Head
REFRESH-INTERVAL;VALUE=DURATION:PT1H
X-Robots-Tag:noindex
X-PUBLISHED-TTL:PT1H
BEGIN:VTIMEZONE
TZID:UTC
BEGIN:STANDARD
TZOFFSETFROM:+0000
TZOFFSETTO:+0000
TZNAME:UTC
DTSTART:20250101T000000
END:STANDARD
END:VTIMEZONE
BEGIN:VEVENT
DTSTART;TZID=UTC:20250222T213000
DTEND;TZID=UTC:20250223T020000
DTSTAMP:20260419T163600
CREATED:20250102T191814Z
LAST-MODIFIED:20250129T182228Z
UID:10009424-1740259800-1740276000@www.thekingshead.ca
SUMMARY:The Contraband LIVE
DESCRIPTION:LIVE Music Every Friday & Saturday Nights starting at 9:45pm \nHAPPY HOUR 3pm – 7pm: $5 House Pints / Highballs / Fry Bar \nFriday Specials: 1/2 Price Bottles of Wine & 1/2 Price 6oz glass of House Wine from 11:30am ’til 7pm | $14 Fish and Chips all day long \nSaturday Specials: $6.50 PBR Pints & Tall Cans – 11:30 “til 7pm \n$35 Kings Head Platter: 2lb of Wings & 2 Pounds of Dry Ribs served with Carrots\, Celery and Ranch ALL DAY LONG
URL:https://www.thekingshead.ca/events/event/the-contraband-live-2/2025-02-22/
ATTACH;FMTTYPE=image/jpeg:https://www.thekingshead.ca/events/wp-content/uploads/2023/07/con.jpg
END:VEVENT
END:VCALENDAR