BEGIN:VCALENDAR
VERSION:2.0
PRODID:-//The Kings Head - ECPv6.8.3//NONSGML v1.0//EN
CALSCALE:GREGORIAN
METHOD:PUBLISH
X-WR-CALNAME:The Kings Head
X-ORIGINAL-URL:https://www.thekingshead.ca/events
X-WR-CALDESC:Events for The Kings Head
REFRESH-INTERVAL;VALUE=DURATION:PT1H
X-Robots-Tag:noindex
X-PUBLISHED-TTL:PT1H
BEGIN:VTIMEZONE
TZID:UTC
BEGIN:STANDARD
TZOFFSETFROM:+0000
TZOFFSETTO:+0000
TZNAME:UTC
DTSTART:20250101T000000
END:STANDARD
END:VTIMEZONE
BEGIN:VEVENT
DTSTART;TZID=UTC:20250216T200000
DTEND;TZID=UTC:20250217T000000
DTSTAMP:20260424T130340
CREATED:20250113T225844Z
LAST-MODIFIED:20250113T225844Z
UID:10009437-1739736000-1739750400@www.thekingshead.ca
SUMMARY:The Rock Show - Long Weekend Sunday
DESCRIPTION: Get ready\, Calgary!  Blink-182 Tribute Band + High-Energy Pop-Punk Anthems = a night of pure\, unfiltered fun! \nWe’re bringing the hits\, the energy\, and the vibe that’ll light up the dance floor and keep you moving all night long. This is THE Long Weekend event you can’t miss in February! \n Sunday Feb. 16 | Band starts 8pm | $5 Cover\nDon’t forget your crew\, we have 1/2 Price Pizza. Free Pool and ALL DAY HAPPY HOUR!
URL:https://www.thekingshead.ca/events/event/the-rock-show-long-weekend-sunday/
ATTACH;FMTTYPE=image/jpeg:https://www.thekingshead.ca/events/wp-content/uploads/2025/01/TherockshowIG.jpg
END:VEVENT
END:VCALENDAR