BEGIN:VCALENDAR
VERSION:2.0
PRODID:-//The Kings Head - ECPv6.8.3//NONSGML v1.0//EN
CALSCALE:GREGORIAN
METHOD:PUBLISH
X-ORIGINAL-URL:https://www.thekingshead.ca/events
X-WR-CALDESC:Events for The Kings Head
REFRESH-INTERVAL;VALUE=DURATION:PT1H
X-Robots-Tag:noindex
X-PUBLISHED-TTL:PT1H
BEGIN:VTIMEZONE
TZID:UTC
BEGIN:STANDARD
TZOFFSETFROM:+0000
TZOFFSETTO:+0000
TZNAME:UTC
DTSTART:20240101T000000
END:STANDARD
END:VTIMEZONE
BEGIN:VEVENT
DTSTART;TZID=UTC:20240710T193000
DTEND;TZID=UTC:20240710T223000
DTSTAMP:20260424T212945
CREATED:20240604T193140Z
LAST-MODIFIED:20240627T185249Z
UID:10008844-1720639800-1720650600@www.thekingshead.ca
SUMMARY:Anti Stampede Party - Trivia Night
DESCRIPTION:Need a Break from Stampede? Join us for our Anti Stampede Party – The Party Everyone is Invited to! \nTrivia Night 7pm-10pm with Tipsy Trivia Entertainment and name that tune. Switch it up and have fun. Show us your knowledge and win fun prizes.  \nWednesday Food & Drink Specials Open to Close: .50 Cent WINGS & $6.50 Wild Rose Pints
URL:https://www.thekingshead.ca/events/event/anti-stampede-party-trivia-night/
ATTACH;FMTTYPE=image/jpeg:https://www.thekingshead.ca/events/wp-content/uploads/2024/06/KHTriviaanti.jpg
END:VEVENT
END:VCALENDAR